BEGIN:VCALENDAR
VERSION:2.0
PRODID:-//Jackson Art Association - ECPv6.15.20//NONSGML v1.0//EN
CALSCALE:GREGORIAN
METHOD:PUBLISH
X-WR-CALNAME:Jackson Art Association
X-ORIGINAL-URL:https://jacksonartists.org
X-WR-CALDESC:Events for Jackson Art Association
REFRESH-INTERVAL;VALUE=DURATION:PT1H
X-Robots-Tag:noindex
X-PUBLISHED-TTL:PT1H
BEGIN:VTIMEZONE
TZID:America/Detroit
BEGIN:DAYLIGHT
TZOFFSETFROM:-0500
TZOFFSETTO:-0400
TZNAME:EDT
DTSTART:20250309T070000
END:DAYLIGHT
BEGIN:STANDARD
TZOFFSETFROM:-0400
TZOFFSETTO:-0500
TZNAME:EST
DTSTART:20251102T060000
END:STANDARD
BEGIN:DAYLIGHT
TZOFFSETFROM:-0500
TZOFFSETTO:-0400
TZNAME:EDT
DTSTART:20260308T070000
END:DAYLIGHT
BEGIN:STANDARD
TZOFFSETFROM:-0400
TZOFFSETTO:-0500
TZNAME:EST
DTSTART:20261101T060000
END:STANDARD
BEGIN:DAYLIGHT
TZOFFSETFROM:-0500
TZOFFSETTO:-0400
TZNAME:EDT
DTSTART:20270314T070000
END:DAYLIGHT
BEGIN:STANDARD
TZOFFSETFROM:-0400
TZOFFSETTO:-0500
TZNAME:EST
DTSTART:20271107T060000
END:STANDARD
END:VTIMEZONE
BEGIN:VEVENT
DTSTART;TZID=America/Detroit:20260707T180000
DTEND;TZID=America/Detroit:20260707T180000
DTSTAMP:20260420T055627
CREATED:20260305T221622Z
LAST-MODIFIED:20260306T183310Z
UID:1990-1783447200-1783447200@jacksonartists.org
SUMMARY:JAA Meeting
DESCRIPTION:All meetings take place in the community room of Ella Sharp Museum. Meetings start at 6:00pm (for social time). Presentations are 6:30 – 8:00pm. \nMembers are invited to share a piece ready to hang as their entry for “Artist of the Month”. Or\, just bring work – in process or finished – that you would like to show us\, or perhaps get advice on. Join us on this evening!
URL:https://jacksonartists.org/event/jaa-meeting-7-7-26/
LOCATION:Ella Sharp Museum\, 3225 4th St\, Jackson\, Michigan\, 49203\, United States
CATEGORIES:Event
ATTACH;FMTTYPE=image/jpeg:https://jacksonartists.org/wp-content/uploads/jaa-event-logo.jpg
END:VEVENT
END:VCALENDAR