BEGIN:VCALENDAR
VERSION:2.0
PRODID:-//Jackson Art Association - ECPv6.15.20//NONSGML v1.0//EN
CALSCALE:GREGORIAN
METHOD:PUBLISH
X-WR-CALNAME:Jackson Art Association
X-ORIGINAL-URL:https://jacksonartists.org
X-WR-CALDESC:Events for Jackson Art Association
REFRESH-INTERVAL;VALUE=DURATION:PT1H
X-Robots-Tag:noindex
X-PUBLISHED-TTL:PT1H
BEGIN:VTIMEZONE
TZID:America/Detroit
BEGIN:DAYLIGHT
TZOFFSETFROM:-0500
TZOFFSETTO:-0400
TZNAME:EDT
DTSTART:20250309T070000
END:DAYLIGHT
BEGIN:STANDARD
TZOFFSETFROM:-0400
TZOFFSETTO:-0500
TZNAME:EST
DTSTART:20251102T060000
END:STANDARD
BEGIN:DAYLIGHT
TZOFFSETFROM:-0500
TZOFFSETTO:-0400
TZNAME:EDT
DTSTART:20260308T070000
END:DAYLIGHT
BEGIN:STANDARD
TZOFFSETFROM:-0400
TZOFFSETTO:-0500
TZNAME:EST
DTSTART:20261101T060000
END:STANDARD
BEGIN:DAYLIGHT
TZOFFSETFROM:-0500
TZOFFSETTO:-0400
TZNAME:EDT
DTSTART:20270314T070000
END:DAYLIGHT
BEGIN:STANDARD
TZOFFSETFROM:-0400
TZOFFSETTO:-0500
TZNAME:EST
DTSTART:20271107T060000
END:STANDARD
END:VTIMEZONE
BEGIN:VEVENT
DTSTART;VALUE=DATE:20260923
DTEND;VALUE=DATE:20260926
DTSTAMP:20260419T121820
CREATED:20260218T204616Z
LAST-MODIFIED:20260218T204755Z
UID:1881-1790121600-1790380799@jacksonartists.org
SUMMARY:Paint Jackson 1st Plein Air Festival Check-In
DESCRIPTION:Paint Jackson 1st Plein Air Festival Check-In\n7:30 to 10:30 am and from 3:00 to 7:00 pm at The Patio\, Ella Sharp Museum \nSubmissions accepted anytime during Check-In with last time to turn in submissions Sat.\, Sept. 26 from 10 am to 1 pm.
URL:https://jacksonartists.org/event/paint-jackson-1st-plein-air-festival-check-in/
LOCATION:Ella Sharp Museum\, 3225 4th St\, Jackson\, Michigan\, 49203\, United States
CATEGORIES:Event
ATTACH;FMTTYPE=image/jpeg:https://jacksonartists.org/wp-content/uploads/paint-jackson-festival-calendar.jpg
END:VEVENT
END:VCALENDAR