BEGIN:VCALENDAR
VERSION:2.0
PRODID:-//Jackson Art Association - ECPv6.15.20//NONSGML v1.0//EN
CALSCALE:GREGORIAN
METHOD:PUBLISH
X-WR-CALNAME:Jackson Art Association
X-ORIGINAL-URL:https://jacksonartists.org
X-WR-CALDESC:Events for Jackson Art Association
REFRESH-INTERVAL;VALUE=DURATION:PT1H
X-Robots-Tag:noindex
X-PUBLISHED-TTL:PT1H
BEGIN:VTIMEZONE
TZID:America/Detroit
BEGIN:DAYLIGHT
TZOFFSETFROM:-0500
TZOFFSETTO:-0400
TZNAME:EDT
DTSTART:20250309T070000
END:DAYLIGHT
BEGIN:STANDARD
TZOFFSETFROM:-0400
TZOFFSETTO:-0500
TZNAME:EST
DTSTART:20251102T060000
END:STANDARD
BEGIN:DAYLIGHT
TZOFFSETFROM:-0500
TZOFFSETTO:-0400
TZNAME:EDT
DTSTART:20260308T070000
END:DAYLIGHT
BEGIN:STANDARD
TZOFFSETFROM:-0400
TZOFFSETTO:-0500
TZNAME:EST
DTSTART:20261101T060000
END:STANDARD
BEGIN:DAYLIGHT
TZOFFSETFROM:-0500
TZOFFSETTO:-0400
TZNAME:EDT
DTSTART:20270314T070000
END:DAYLIGHT
BEGIN:STANDARD
TZOFFSETFROM:-0400
TZOFFSETTO:-0500
TZNAME:EST
DTSTART:20271107T060000
END:STANDARD
END:VTIMEZONE
BEGIN:VEVENT
DTSTART;VALUE=DATE:20260420
DTEND;VALUE=DATE:20260502
DTSTAMP:20260421T070356
CREATED:20260206T185104Z
LAST-MODIFIED:20260206T185839Z
UID:1579-1776643200-1777679999@jacksonartists.org
SUMMARY:Quarterly Art Exhibit - Drop Off Artwork
DESCRIPTION:Ella Sharp Museum & JAA Quarterly Art Exhibit \nApr 20th – May 1st \nDrop off artwork for upcoming exhibit \nMay 5th \nExhibit opens \nMay 6th – 20th \nPick up artwork from previous show \n  \nDownload the PDF \n 
URL:https://jacksonartists.org/event/quarterly-art-exhibit-drop-off-artwork/
LOCATION:Ella Sharp Museum\, 3225 4th St\, Jackson\, Michigan\, 49203\, United States
CATEGORIES:Event
ATTACH;FMTTYPE=image/jpeg:https://jacksonartists.org/wp-content/uploads/jaa-event-logo.jpg
END:VEVENT
BEGIN:VEVENT
DTSTART;TZID=America/Detroit:20260421T180000
DTEND;TZID=America/Detroit:20260421T180000
DTSTAMP:20260421T070356
CREATED:20260412T113412Z
LAST-MODIFIED:20260412T113658Z
UID:2563-1776794400-1776794400@jacksonartists.org
SUMMARY:JAA Meeting
DESCRIPTION:All meetings take place in the community room of Ella Sharp Museum. Meetings start at 6:00pm (for social time). Presentations are 6:30 – 8:00pm. \nLife Drawing: Working with a Live Model\nMyths and Reality \nJoin U of M Professor of Figure Drawing and Painting\, Nora Venterelli\, along with Artists\, Ave’ Madiol Veneklasen\, and David Youngman\, for this enlightening presentation about how Life Drawing can enhance your work. by improving your focus and developing your observational skills. This should be an inspiring session! \nWe will have paper and charcoal available\, but bring your own supplies if you wish.
URL:https://jacksonartists.org/event/jaa-meeting-4-21-26/
LOCATION:Ella Sharp Museum\, 3225 4th St\, Jackson\, Michigan\, 49203\, United States
CATEGORIES:Event
ATTACH;FMTTYPE=image/jpeg:https://jacksonartists.org/wp-content/uploads/jaa-event-logo.jpg
END:VEVENT
END:VCALENDAR